BEGIN:VCALENDAR
VERSION:2.0
PRODID:-//ChamberMaster//Event Calendar 2.0//EN
METHOD:PUBLISH
X-PUBLISHED-TTL:P3D
REFRESH-INTERVAL:P3D
CALSCALE:GREGORIAN
BEGIN:VEVENT
DTSTART:20190622T151500Z
DTEND:20190622T164500Z
X-MICROSOFT-CDO-ALLDAYEVENT:FALSE
SUMMARY:Zero Prostate Cancer Run/Walk
DESCRIPTION:The 2019 ZERO Prostate Cancer Run/Walk - Greater Los Angeles Area features a 5K run/walk\, 1 mile walk\, Kids' Superhero Dash for Dad\, and virtual Snooze for Dudes program. Stick around for the family-friendly post-race celebration. Run/walk participants will receive shirts\, free food and prizes\, and the opportunity to connect with others who are impacted by prostate cancer.
X-ALT-DESC;FMTTYPE=text/html:The 2019 ZERO Prostate Cancer Run/Walk - Greater Los Angeles Area features a 5K run/walk\, 1 mile walk\, Kids&#39\; Superhero Dash for Dad\, and virtual Snooze for Dudes program. Stick around for the family-friendly post-race celebration. Run/walk participants will receive shirts\, free food and prizes\, and the opportunity to connect with others who are impacted by prostate cancer.
LOCATION:Shoreline Aquatic Park (Located behind the Aquarium of the Pacific) 200 Aquarium Way Long Beach\, CA 90802
UID:e.1956.4458
SEQUENCE:3
DTSTAMP:20260419T192908Z
URL:https://business.lbchamber.com/events/details/zero-prostate-cancer-run-walk-4458
END:VEVENT

END:VCALENDAR
