BEGIN:VCALENDAR
VERSION:2.0
PRODID:-//ChamberMaster//Event Calendar 2.0//EN
METHOD:PUBLISH
X-PUBLISHED-TTL:P3D
REFRESH-INTERVAL:P3D
CALSCALE:GREGORIAN
BEGIN:VEVENT
DTSTART;VALUE=DATE:20140418
DTEND;VALUE=DATE:20140419
TRANSP:TRANSPARENT
X-MICROSOFT-CDO-ALLDAYEVENT:TRUE
SUMMARY:YMCA of Greater Long Beach 46th Annual Good Friday Prayer Breakfast
DESCRIPTION:
X-ALT-DESC;FMTTYPE=text/html:
LOCATION:
UID:e.1956.1212
SEQUENCE:3
DTSTAMP:20260424T205811Z
URL:https://business.lbchamber.com/events/details/ymca-of-greater-long-beach-46th-annual-good-friday-prayer-breakfast-04-18-2014-1212
END:VEVENT

END:VCALENDAR
