BEGIN:VCALENDAR
VERSION:2.0
PRODID:-//ChamberMaster//Event Calendar 2.0//EN
METHOD:PUBLISH
X-PUBLISHED-TTL:P3D
REFRESH-INTERVAL:P3D
CALSCALE:GREGORIAN
BEGIN:VEVENT
DTSTART:20150226T160000Z
DTEND:20150226T220000Z
X-MICROSOFT-CDO-ALLDAYEVENT:FALSE
SUMMARY:YEN Mock Interviews
DESCRIPTION:Calling all business managers and business owners - Help Long Beach Unified School District students practice their interviewing skills and provide feedback on their employability. Volunteer your time to help with Mock Interviews at Lakewood High School. Continental breakfast and lunch will be provided. We are flexible with your participation schedule. Must RSVP to participate. http://goo.gl/forms/DA3Mzuwriw
X-ALT-DESC;FMTTYPE=text/html:Calling all business managers and business owners - Help Long Beach Unified School District students practice their interviewing skills and provide feedback on their employability. Volunteer your time to help with Mock Interviews at Lakewood High School. Continental breakfast and lunch will be provided. We are flexible with your participation schedule. Must RSVP to participate. http://goo.gl/forms/DA3Mzuwriw
LOCATION:Lakewood High School\, 4400 Briercrest Avenue Lakewood\, CA 90713
UID:e.1956.2385
SEQUENCE:3
DTSTAMP:20260424T071430Z
URL:https://business.lbchamber.com/events/details/yen-mock-interviews-02-26-2015-2385
END:VEVENT

END:VCALENDAR
