BEGIN:VCALENDAR
VERSION:2.0
PRODID:-//ChamberMaster//Event Calendar 2.0//EN
METHOD:PUBLISH
X-PUBLISHED-TTL:P3D
REFRESH-INTERVAL:P3D
CALSCALE:GREGORIAN
BEGIN:VEVENT
DTSTART:20150225T160000Z
DTEND:20150225T220000Z
X-MICROSOFT-CDO-ALLDAYEVENT:FALSE
SUMMARY:YEN Mock Interviews
DESCRIPTION:Calling all business managers and business owners - Help Long Beach Unified School District students practice their interviewing skills and provide feedback on their employability. Volunteer your time to help with Mock Interviews at Millikan High School. Continental breakfast and lunch will be provided. We are flexible with your participation schedule. Must RSVP to participate. http://goo.gl/forms/DA3Mzuwriw
X-ALT-DESC;FMTTYPE=text/html:Calling all business managers and business owners - Help Long Beach Unified School District students practice their interviewing skills and provide feedback on their employability. Volunteer your time to help with Mock Interviews at Millikan High School. Continental breakfast and lunch will be provided. We are flexible with your participation schedule. Must RSVP to participate. http://goo.gl/forms/DA3Mzuwriw
LOCATION:Millikan High School\, 6500 Atlantic Avenue Long Beach\, CA 90805
UID:e.1956.2384
SEQUENCE:3
DTSTAMP:20260424T071416Z
URL:https://business.lbchamber.com/events/details/yen-mock-interviews-02-25-2015-2384
END:VEVENT

END:VCALENDAR
