BEGIN:VCALENDAR
VERSION:2.0
PRODID:-//ChamberMaster//Event Calendar 2.0//EN
METHOD:PUBLISH
X-PUBLISHED-TTL:P3D
REFRESH-INTERVAL:P3D
CALSCALE:GREGORIAN
BEGIN:VEVENT
DTSTART:20150219T160000Z
DTEND:20150219T220000Z
X-MICROSOFT-CDO-ALLDAYEVENT:FALSE
SUMMARY:YEN Mock Interviews
DESCRIPTION:Calling all business managers and business owners - Help Long Beach Unified School District students practice their interviewing skills and provide feedback on their employability. Volunteer your time to help with Mock Interviews at Cabrillo High School. Continental breakfast and lunch will be provided. We are flexible with your participation schedule. Must RSVP to participate. http://goo.gl/forms/DA3Mzuwriw
X-ALT-DESC;FMTTYPE=text/html:Calling all business managers and business owners - Help Long Beach Unified School District students practice their interviewing skills and provide feedback on their employability. Volunteer your time to help with Mock Interviews at Cabrillo High School. Continental breakfast and lunch will be provided. We are flexible with your participation schedule. Must RSVP to participate. http://goo.gl/forms/DA3Mzuwriw
LOCATION:Cabrillo High School\, 2001 Santa Fe Avenue Long Beach\, CA 90710
UID:e.1956.2382
SEQUENCE:3
DTSTAMP:20260424T071422Z
URL:https://business.lbchamber.com/events/details/yen-mock-interviews-02-19-2015-2382
END:VEVENT

END:VCALENDAR
