BEGIN:VCALENDAR
VERSION:2.0
PRODID:-//ChamberMaster//Event Calendar 2.0//EN
METHOD:PUBLISH
X-PUBLISHED-TTL:P3D
REFRESH-INTERVAL:P3D
CALSCALE:GREGORIAN
BEGIN:VEVENT
DTSTART:20140522T183000Z
DTEND:20140522T203000Z
X-MICROSOFT-CDO-ALLDAYEVENT:FALSE
SUMMARY:World Trade Week Luncheon 2014
DESCRIPTION:John G. Murphy\n\nVice President International Affairs\n\nU.S. Chamber of Commerce\n\n \n\nKeynote Speaker:\n\n     John Murphy directs policy advocacy relating to international trade and investment on behalf of the U.S. Chamber of Commerce and serves as principal vice president within the Chamber's International Division. With 70 professionals on staff\, the\n\nInternational Division is Washington's most influential team of trade policy experts and advocates.
X-ALT-DESC;FMTTYPE=text/html:<span style="color:#000080\;"><span style="font-weight:bold\;"><span style="font-family:cambria\;"><span style="font-size:13.0pt\;">John G. Murphy<br />\nVice President International Affairs<br />\nU.S. Chamber of Commerce</span></span></span></span><br />\n&nbsp\;<br />\n<span style="font-weight:bold\;"><span style="font-family:cambria\;"><span style="font-size:10.5pt\;">Keynote Speaker:</span></span></span><br />\n&nbsp\;&nbsp\;&nbsp\;&nbsp\; <span style="language:en-US\;"><span style="font-family:cambria\;"><span style="font-size:11.0pt\;">John Murphy directs policy advocacy relating to international trade and investment on behalf of the U.S. Chamber of Commerce and serves as principal vice president within the Chamber&rsquo\;s International Division. With 70 professionals on staff\, the</span></span></span><br />\n<span style="language:en-US\;"><span style="font-family:cambria\;"><span style="font-size:11.0pt\;">International Division is Washington&rsquo\;s most influential team of trade policy experts and advocates.</span></span></span><br />\n&nbsp\;
LOCATION:Hyatt Regency Long Beach 200 S. Pine Avenue Long Beach\, CA 90802
UID:e.1956.1240
SEQUENCE:3
DTSTAMP:20260422T135302Z
URL:https://business.lbchamber.com/events/details/world-trade-week-luncheon-2014-05-22-2014-1240
END:VEVENT

END:VCALENDAR
