BEGIN:VCALENDAR
VERSION:2.0
PRODID:-//ChamberMaster//Event Calendar 2.0//EN
METHOD:PUBLISH
X-PUBLISHED-TTL:P3D
REFRESH-INTERVAL:P3D
CALSCALE:GREGORIAN
BEGIN:VEVENT
DTSTART:20170512T183000Z
DTEND:20170512T203000Z
X-MICROSOFT-CDO-ALLDAYEVENT:FALSE
SUMMARY:World Trade Week 2017
DESCRIPTION:Please join us in welcoming Professor Anne Goodchild from the University of Washington to Long Beach!  This year's theme for World Trade Week is "Southern California: The Hub of Global Trade".  One of the highlights of the event will be the WTW Student Poster Contest sponsored by BNSF Railway.
X-ALT-DESC;FMTTYPE=text/html:<span style="font-family:tahoma\;"><span style="font-size:12px\;">Please join us in welcoming Professor Anne Goodchild from the University of Washington to Long Beach! &nbsp\;This year&#39\;s theme for World Trade Week is &quot\;Southern California: The Hub of Global Trade&quot\;. &nbsp\;One of the highlights of the event will be the WTW Student Poster Contest sponsored by BNSF Railway.</span></span>
LOCATION:Hilton Long Beach International I\, II\, III\, 2nd Floor 701 W. Ocean Blvd. Long Beach\, CA 90802
UID:e.1956.3082
SEQUENCE:3
DTSTAMP:20260419T173949Z
URL:https://business.lbchamber.com/events/details/world-trade-week-2017-3082
END:VEVENT

END:VCALENDAR
