BEGIN:VCALENDAR
VERSION:2.0
PRODID:-//ChamberMaster//Event Calendar 2.0//EN
METHOD:PUBLISH
X-PUBLISHED-TTL:P3D
REFRESH-INTERVAL:P3D
CALSCALE:GREGORIAN
BEGIN:VEVENT
DTSTART:20180623T173000Z
DTEND:20180623T203000Z
X-MICROSOFT-CDO-ALLDAYEVENT:FALSE
SUMMARY:WomenShelter of Long Beach 2018 Family Fun Day
DESCRIPTION:WomenShelter of Long Beach (WSLB) is excited to host our fourth annual Community Health and Outreach Event\, Family Fun Day\, at The Salvation Army   3000 Long Beach Blvd.\, Long Beach CA 90807 on Saturday\, June 23\, 2018 from 10:30am to 1:30pm. All are welcome to join us at this event: free admission\, free parking\, and free food (while supplies last) will be offered. Guests will be introduced to many wonderful service providers. WSLB and community partners will provide free health services\, screenings\, testing\, enrollments\, education\, interactive workshops\, assessments\, food\, fun\, prizes\, and much more!
X-ALT-DESC;FMTTYPE=text/html:WomenShelter of Long Beach (WSLB) is excited to host our fourth annual Community Health and Outreach Event\, Family Fun Day\, at The Salvation Army &ndash\; 3000 Long Beach Blvd.\, Long Beach CA 90807 on Saturday\, June 23\, 2018 from 10:30am to 1:30pm. All are welcome to join us at this event: free admission\, free parking\, and free food (while supplies last) will be offered. Guests will be introduced to many wonderful service providers. WSLB and community partners will provide free health services\, screenings\, testing\, enrollments\, education\, interactive workshops\, assessments\, food\, fun\, prizes\, and much more!
LOCATION:The Salvation Army 3000 Long Beach Blvd. Long Beach\, CA 90807
UID:e.1956.4299
SEQUENCE:3
DTSTAMP:20260420T131315Z
URL:https://business.lbchamber.com/events/details/womenshelter-of-long-beach-2018-family-fun-day-4299
END:VEVENT

END:VCALENDAR
