BEGIN:VCALENDAR
VERSION:2.0
PRODID:-//ChamberMaster//Event Calendar 2.0//EN
METHOD:PUBLISH
X-PUBLISHED-TTL:P3D
REFRESH-INTERVAL:P3D
CALSCALE:GREGORIAN
BEGIN:VEVENT
DTSTART:20160923T003000Z
DTEND:20160923T023000Z
X-MICROSOFT-CDO-ALLDAYEVENT:FALSE
SUMMARY:Women's Business Council Mixer
DESCRIPTION:Women's Business Council Mixer!  Everyone is welcome!
X-ALT-DESC;FMTTYPE=text/html:Women&#39\;s Business Council Mixer! &nbsp\;Everyone is welcome!
LOCATION:Fuego Restaurant Hotel Maya 700 Queensway Drive Long Beach\, 90802
UID:e.1956.3012
SEQUENCE:3
DTSTAMP:20260420T060437Z
URL:https://business.lbchamber.com/events/details/women-s-business-council-mixer-09-22-2016-3012
END:VEVENT

END:VCALENDAR
