BEGIN:VCALENDAR
VERSION:2.0
PRODID:-//ChamberMaster//Event Calendar 2.0//EN
METHOD:PUBLISH
X-PUBLISHED-TTL:P3D
REFRESH-INTERVAL:P3D
CALSCALE:GREGORIAN
BEGIN:VEVENT
DTSTART:20180711T020000Z
DTEND:20180711T040000Z
X-MICROSOFT-CDO-ALLDAYEVENT:FALSE
SUMMARY:Wine Glass Paint and Sip
DESCRIPTION:Paint & Sip "Under the Sea" with The Paint Sesh at Cafe Ambrosia in beautiful Long Beach\, CA. If you're an underwater sea life lover\, or just enjoy drinking in general this is the painting for you! Enjoy a tasty drink from the venues bar while painting these fun underwater inspired wine glasses. The instructor will guide you and your friends through two hours of lively creativity\, fun and lets be honest\, art is a form of therapy\, sometimes you just need a night out!
X-ALT-DESC;FMTTYPE=text/html:Paint &amp\; Sip &ldquo\;Under the Sea&rdquo\; with The Paint Sesh at Cafe Ambrosia in beautiful Long Beach\, CA. If you&rsquo\;re an underwater sea life lover\, or just enjoy drinking in general this is the painting for you! Enjoy a tasty drink from the venues bar while painting these fun underwater inspired wine glasses. The instructor will guide you and your friends through two hours of lively creativity\, fun and lets be honest\, art is a form of therapy\, sometimes you just need a night out!
LOCATION:Cafe Ambrosia 1923 E Broadway\, Long Beach\, CA 90802
UID:e.1956.4308
SEQUENCE:3
DTSTAMP:20260420T114318Z
URL:https://business.lbchamber.com/events/details/wine-glass-paint-and-sip-4308
END:VEVENT

END:VCALENDAR
