BEGIN:VCALENDAR
VERSION:2.0
PRODID:-//ChamberMaster//Event Calendar 2.0//EN
METHOD:PUBLISH
X-PUBLISHED-TTL:P3D
REFRESH-INTERVAL:P3D
CALSCALE:GREGORIAN
BEGIN:VEVENT
DTSTART:20150204T200000Z
DTEND:20150205T010000Z
X-MICROSOFT-CDO-ALLDAYEVENT:FALSE
SUMMARY:Western Dental Care Grand Opening
DESCRIPTION:Join our celebration for the grand opening of our new Long Beach Atlantic location along with the Long Beach Area Chamber of Commerce\n\n	Free dental screenings\n	Food and beverages\n	Facility tours\n	Giveaways\n	Raffle prizes\n\nCome meet our friendly staff!
X-ALT-DESC;FMTTYPE=text/html:Join our celebration for the grand opening of our new Long Beach Atlantic location along with the Long Beach Area Chamber of Commerce\n<ul>\n	<li>Free dental screenings</li>\n	<li>Food and beverages</li>\n	<li>Facility tours</li>\n	<li>Giveaways</li>\n	<li>Raffle prizes</li>\n</ul>\nCome meet our friendly staff!
LOCATION:4516 Atlantic Ave.\, Long Beach\, CA
UID:e.1956.2398
SEQUENCE:3
DTSTAMP:20260424T071736Z
URL:https://business.lbchamber.com/events/details/western-dental-care-grand-opening-02-04-2015-2398
END:VEVENT

END:VCALENDAR
