BEGIN:VCALENDAR
VERSION:2.0
PRODID:-//ChamberMaster//Event Calendar 2.0//EN
METHOD:PUBLISH
X-PUBLISHED-TTL:P3D
REFRESH-INTERVAL:P3D
CALSCALE:GREGORIAN
BEGIN:VEVENT
DTSTART:20140406T003000Z
DTEND:20140406T070000Z
X-MICROSOFT-CDO-ALLDAYEVENT:FALSE
SUMMARY:Westerly School's Roaring '20s Dinner and Auction
DESCRIPTION:
X-ALT-DESC;FMTTYPE=text/html:
LOCATION:
UID:e.1956.1207
SEQUENCE:3
DTSTAMP:20260424T210046Z
URL:https://business.lbchamber.com/events/details/westerly-school-s-roaring-20s-dinner-and-auction-04-05-2014-1207
END:VEVENT

END:VCALENDAR
