BEGIN:VCALENDAR
VERSION:2.0
PRODID:-//ChamberMaster//Event Calendar 2.0//EN
METHOD:PUBLISH
X-PUBLISHED-TTL:P3D
REFRESH-INTERVAL:P3D
CALSCALE:GREGORIAN
BEGIN:VEVENT
DTSTART:20211207T193000Z
DTEND:20211207T203000Z
X-MICROSOFT-CDO-ALLDAYEVENT:FALSE
SUMMARY:Webinar – How to Start Your Business
DESCRIPTION:Learn to start\, run and grow your business. This workshop covers critical topics such as business development\, market research\, business entities and so much more. Don't waste another minute\, join us in learning how to bring your entrepreneurial idea to life.
X-ALT-DESC;FMTTYPE=text/html:<span style="color: rgb(49\, 49\, 49)\; font-family: &quot\;Proxima N W01 Light&quot\;\, Helvetica\, Arial\, sans-serif\; font-size: 18px\;">Learn to start\, run and grow your business. This workshop covers critical topics such as business development\, market research\, business entities and so much more. Don&rsquo\;t waste another minute\, join us in learning how to bring your entrepreneurial idea to life.</span>
LOCATION:Webinar (Zoom)
UID:e.1956.5278
SEQUENCE:3
DTSTAMP:20260420T001220Z
URL:https://business.lbchamber.com/events/details/webinar-how-to-start-your-business-5278
END:VEVENT

END:VCALENDAR
