BEGIN:VCALENDAR
VERSION:2.0
PRODID:-//ChamberMaster//Event Calendar 2.0//EN
METHOD:PUBLISH
X-PUBLISHED-TTL:P3D
REFRESH-INTERVAL:P3D
CALSCALE:GREGORIAN
BEGIN:VEVENT
DTSTART:20141115T180000Z
DTEND:20141115T230000Z
X-MICROSOFT-CDO-ALLDAYEVENT:FALSE
SUMMARY:WE Connect Resource Fair
DESCRIPTION:WE Connect will be hosting a FREE community event on November 15th from 10am-3pm at the David Starr Jordan High School in Long Beach. We will be offering many FREE services on this day. Free Health Care Enrollment Assistance\, Free Groceries to first 1\,000 families\, Free basic medical screenings\, and a Resource Fair. Open to the whole community to attend.
X-ALT-DESC;FMTTYPE=text/html:WE Connect will be hosting a FREE community event on November 15th from 10am-3pm at the David Starr Jordan High School in Long Beach. We will be offering many FREE services on this day. Free Health Care Enrollment Assistance\, Free Groceries to first 1\,000 families\, Free basic medical screenings\, and a Resource Fair. Open to the whole community to attend.
LOCATION:David Starr Jordan High School 6500 Atlantic Avenue\, Long Beach\, CA 90805
UID:e.1956.2337
SEQUENCE:3
DTSTAMP:20260424T113518Z
URL:https://business.lbchamber.com/events/details/we-connect-resource-fair-11-15-2014-2337
END:VEVENT

END:VCALENDAR
