BEGIN:VCALENDAR
VERSION:2.0
PRODID:-//ChamberMaster//Event Calendar 2.0//EN
METHOD:PUBLISH
X-PUBLISHED-TTL:P3D
REFRESH-INTERVAL:P3D
CALSCALE:GREGORIAN
BEGIN:VEVENT
DTSTART:20160331T143000Z
DTEND:20160331T163000Z
X-MICROSOFT-CDO-ALLDAYEVENT:FALSE
SUMMARY:WBC Women's History Month
DESCRIPTION:Breakfast Celebrating Women's History Month\n\nWomen in Non-Traditional Employment Roles\n\nWe will have a panel discussion with accomplished women!  Please join us!
X-ALT-DESC;FMTTYPE=text/html:<span style="font-size:18px\;"><span style="font-family:elephant\;">Breakfast Celebrating Women&rsquo\;s History Month</span><br />\n<em><span style="font-family:elephant\;">Women in Non-Traditional Employment Roles</span></em></span><br />\nWe will have a panel discussion with accomplished women! &nbsp\;Please join us!
LOCATION:Hotel Maya 700 Queensway Drive Long Beach\, 90802
UID:e.1956.2741
SEQUENCE:3
DTSTAMP:20260420T143845Z
URL:https://business.lbchamber.com/events/details/wbc-women-s-history-month-03-31-2016-2741
END:VEVENT

END:VCALENDAR
