BEGIN:VCALENDAR
VERSION:2.0
PRODID:-//ChamberMaster//Event Calendar 2.0//EN
METHOD:PUBLISH
X-PUBLISHED-TTL:P3D
REFRESH-INTERVAL:P3D
CALSCALE:GREGORIAN
BEGIN:VEVENT
DTSTART:20170505T003000Z
DTEND:20170505T033000Z
X-MICROSOFT-CDO-ALLDAYEVENT:FALSE
SUMMARY:WBC Women of Excellence & Small Business Grant Dinner
DESCRIPTION:Tesoro's Women of  Excellence\n\nWe will celebrate three exceptional women as we look at their careers\, involvement in our community and honor their accomplishments. \n\n\n\nExemplary Business Woman\n\nWoman Educator\n\nWoman Entrepreneur\n\n \n\nTesoro's Small Business Grant\n\nPlease join us!  You'll hear their inspiring story\, their struggles and learn how they have overcome them.
X-ALT-DESC;FMTTYPE=text/html:<span style="font-family:arial\;"><span style="font-size:26.0pt\;">Tesoro&rsquo\;s&nbsp\;</span></span><strong style="color: rgb(0\, 0\, 0)\; font-size: 28px\;"><span style="font-family: &quot\;edwardian script itc&quot\;\;"><span style="font-size:36px\;">Women of </span>&nbsp\;</span></strong><span style="font-size:28px\;"><span style="font-family:arial\;">Excellence</span></span><br />\n<span style="color:#000000\;"><span style="font-family:arial\;"><span style="font-size:14.0pt\;">We will celebrate three exceptional women as we look at their careers\,&nbsp\;involvement in our community and honor their accomplishments. </span></span><br />\n<br />\n<span style="font-weight:bold\;language:en-US\;"><span style="font-family:arial\;"><span style="font-size:14.0pt\;">Exemplary Business Woman<br />\nWoman Educator<br />\nWoman Entrepreneur</span></span></span><br />\n&nbsp\;</span><br />\n<span style="font-family:victorian let\;"><span style="font-size:26.0pt\;">Tesoro&rsquo\;s Small Business Grant</span></span><br />\n<span style="color:#000000\;"><span style="font-family:arial\;"><span style="font-size:14.0pt\;">Please join us!&nbsp\; You&rsquo\;ll hear their inspiring story\, their struggles and learn how they have overcome them.&nbsp\;&nbsp\; </span></span><br />\n&nbsp\;</span>
LOCATION:Long Beach Downtown Courtyard by Marriott 500 East First Street\, Long Beach\, CA 90802
UID:e.1956.3091
SEQUENCE:3
DTSTAMP:20260419T181027Z
URL:https://business.lbchamber.com/events/details/wbc-women-of-excellence-small-business-grant-dinner-3091
END:VEVENT

END:VCALENDAR
