BEGIN:VCALENDAR
VERSION:2.0
PRODID:-//ChamberMaster//Event Calendar 2.0//EN
METHOD:PUBLISH
X-PUBLISHED-TTL:P3D
REFRESH-INTERVAL:P3D
CALSCALE:GREGORIAN
BEGIN:VEVENT
DTSTART:20150529T003000Z
DTEND:20150529T030000Z
X-MICROSOFT-CDO-ALLDAYEVENT:FALSE
SUMMARY:WBC Women of Excellence & Small Business Grant Dinner
DESCRIPTION:Women of Excellence\n\nWe will celebrate three very special women as we look at their careers\, involvement in our community and their accomplishments.  The Women of Excellence\n\ncategories are:  Exemplary Business Woman\, Woman Entrepreneur and Woman Educator.   \n\n \n\nA Small Business Grant\n\nPlease join us as we award a woman-owned small business with a grant to help them grow their business and reach their goals!  You'll hear their inspiring story\, their struggle and how they have overcome them.   The WBC is proud to be able to give a small business a hand up!
X-ALT-DESC;FMTTYPE=text/html:<span style="font-size:12px\;"><span style="font-family:times new roman\;"><strong><span style="color:black\;">Women of Excellence</span></strong><br />\n<span style="color:black\;">We will celebrate three very special women as we look at their careers\, involvement in our community and their accomplishments.&nbsp\; The Women of Excellence</span><br />\n<span style="color:black\;">categories are:&nbsp\; Exemplary Business Woman\, Woman Entrepreneur and Woman Educator.&nbsp\;&nbsp\; </span><br />\n&nbsp\;<br />\n<strong><span style="color:black\;">A Small Business Grant</span></strong><br />\n<span style="color:black\;">Please join us as we award a woman-owned small business with a grant to help them grow their business and reach their goals!&nbsp\; You&rsquo\;ll hear their inspiring story\, their struggle and how they have overcome them.&nbsp\;&nbsp\; The WBC is proud to be able to give a small business a hand up!</span></span></span><br />\n&nbsp\;
LOCATION:Renaissance Long Beach Hotel 111 E. Ocean Blvd. Complimentary Parking
UID:e.1956.2438
SEQUENCE:3
DTSTAMP:20260421T210547Z
URL:https://business.lbchamber.com/events/details/wbc-women-of-excellence-small-business-grant-dinner-05-28-2015-2438
END:VEVENT

END:VCALENDAR
