BEGIN:VCALENDAR
VERSION:2.0
PRODID:-//ChamberMaster//Event Calendar 2.0//EN
METHOD:PUBLISH
X-PUBLISHED-TTL:P3D
REFRESH-INTERVAL:P3D
CALSCALE:GREGORIAN
BEGIN:VEVENT
DTSTART:20160420T003000Z
DTEND:20160420T030000Z
X-MICROSOFT-CDO-ALLDAYEVENT:FALSE
SUMMARY:WBC Women of Excellence & Small Business Grant Dinner
DESCRIPTION:Women of Excellence\n\nWe will celebrate three very special women as we look at their careers\,\n\ninvolvement in our community and their accomplishments.  The categories are: \n\nExemplary Business Woman\n\nWoman Educator\n\nWoman Entrepreneur\n\n \n\nSmall Business Grant\n\nWe will also be announcing the winner of this year's Small Business Grant \n\nPlease join us as we award a small business a grant to help them grow their business and reach their goals!  You'll hear their inspiring story\, their struggle and how they have overcome them.
X-ALT-DESC;FMTTYPE=text/html:<span style="color:#000000\;"><span style="font-family:edwardian script itc\;"><span style="font-size:62.0pt\;">Women of </span></span><span style="font-family:arial\;"><span style="font-size:26.0pt\;">Excellence</span></span><br />\n<span style="font-family:arial\;"><span style="font-size:14.0pt\;">We will celebrate three very special women as we look at their careers\,<br />\ninvolvement in our community and their accomplishments.&nbsp\; The categories are: </span></span><br />\n<span style="font-weight:bold\;language:en-US\;"><span style="font-family:arial\;"><span style="font-size:14.0pt\;">Exemplary Business Woman<br />\nWoman Educator<br />\nWoman Entrepreneur</span></span></span><br />\n&nbsp\;<br />\n<span style="font-family:victorian let\;"><span style="font-size:26.0pt\;">Small Business Grant</span></span><br />\n<span style="font-family:arial\;"><span style="font-size:14.0pt\;">We will also be announcing the winner of this year&rsquo\;s Small Business Grant&mdash\;<br />\nPlease join us as we award a small business a grant to help them grow their business and reach their goals!&nbsp\; You&rsquo\;ll hear their inspiring story\, their struggle and how they have overcome them.&nbsp\;&nbsp\; </span></span><br />\n&nbsp\;</span>
LOCATION:Long Beach Airport Marriott 4700 Airport Plaza Dr. Long Beach\, 90815
UID:e.1956.2775
SEQUENCE:3
DTSTAMP:20260420T131315Z
URL:https://business.lbchamber.com/events/details/wbc-women-of-excellence-small-business-grant-dinner-04-19-2016-2775
END:VEVENT

END:VCALENDAR
