BEGIN:VCALENDAR
VERSION:2.0
PRODID:-//ChamberMaster//Event Calendar 2.0//EN
METHOD:PUBLISH
X-PUBLISHED-TTL:P3D
REFRESH-INTERVAL:P3D
CALSCALE:GREGORIAN
BEGIN:VEVENT
DTSTART:20140404T003000Z
DTEND:20140404T033000Z
X-MICROSOFT-CDO-ALLDAYEVENT:FALSE
SUMMARY:WBC Women of Excellence Awards Dinner
DESCRIPTION:We will be celebrating their careers\, involvement in their communities and accomplishments in their personal and professional lives.
X-ALT-DESC;FMTTYPE=text/html:We will be celebrating their careers\, involvement in their communities and accomplishments in their personal and professional lives.&nbsp\; &nbsp\;
LOCATION:Hotel Maya 700 Queensway Drive Long Beach\, CA 90802
UID:e.1956.1232
SEQUENCE:3
DTSTAMP:20260422T150841Z
URL:https://business.lbchamber.com/events/details/wbc-women-of-excellence-awards-dinner-04-03-2014-1232
END:VEVENT

END:VCALENDAR
