BEGIN:VCALENDAR
VERSION:2.0
PRODID:-//ChamberMaster//Event Calendar 2.0//EN
METHOD:PUBLISH
X-PUBLISHED-TTL:P3D
REFRESH-INTERVAL:P3D
CALSCALE:GREGORIAN
BEGIN:VEVENT
DTSTART:20170307T153000Z
DTEND:20170307T173000Z
X-MICROSOFT-CDO-ALLDAYEVENT:FALSE
SUMMARY:WBC Women in STEAM Breakfast
DESCRIPTION:Women in S.T.E.A.M.\n\nScience\, Technology\, Engineering\, Arts & Music\n\nPanel Discussion | Networking | Breakfast
X-ALT-DESC;FMTTYPE=text/html:Women in S.T.E.A.M.<br>\nScience\, Technology\, Engineering\, Arts &amp\; Music<br>\nPanel Discussion | Networking | Breakfast
LOCATION:Courtyard Marriott Long Beach Downtown 500 E. 1st Street\, Long Beach\, CA 90802 Complimentary Parking
UID:e.1956.3069
SEQUENCE:3
DTSTAMP:20260419T205651Z
URL:https://business.lbchamber.com/events/details/wbc-women-in-steam-breakfast-3069
END:VEVENT

END:VCALENDAR
