BEGIN:VCALENDAR
VERSION:2.0
PRODID:-//ChamberMaster//Event Calendar 2.0//EN
METHOD:PUBLISH
X-PUBLISHED-TTL:P3D
REFRESH-INTERVAL:P3D
CALSCALE:GREGORIAN
BEGIN:VEVENT
DTSTART:20170120T013000Z
DTEND:20170120T033000Z
X-MICROSOFT-CDO-ALLDAYEVENT:FALSE
SUMMARY:WBC Vision Board Mixer
DESCRIPTION:Featuring\n\nDeborah Deras\n\n International Speaker\, Author & Engagement Coach \n\n\n\nHow to Supercharge Your Goals\n\n	 Get clarity on goals & intentions for 2017\n	Identify and transmute blocks to success\n	Visioning process to set goals for 2017\n	Create a vision board as an anchor for the goals to manifest faster
X-ALT-DESC;FMTTYPE=text/html:<span style="font-weight:bold\;language:en-US\;"><span style="font-family:constantia\;"><span style="font-size:12pt\;">Featuring</span></span></span><br />\n<span style="font-weight:bold\;language:en-US\;"><span style="font-family:constantia\;"><span style="font-size:12.0pt\;">Deborah Deras<br />\n&#8203\;</span></span></span><span style="font-family: constantia\; font-size: 14.6667px\;">International Speaker\, Author &amp\; Engagement Coach</span><span style="font-weight:bold\;language:en-US\;"><span style="font-family:constantia\;"><span style="font-size:12.0pt\;">&nbsp\;</span></span></span><br />\n<br />\n<span style="font-size:16px\;"><span style="font-weight:bold\;language:en-US\;"><span style="font-family:constantia\;">How to Supercharge Your Goals</span></span></span>\n<ul>\n	<li>&nbsp\;<span style="font-size: 11pt\; font-family: constantia\;">Get clarity on goals &amp\; intentions for 2017</span></li>\n	<li><span style="language:en-US\;"><span style="font-family:constantia\;"><span style="font-size:11.0pt\;">Identify and transmute blocks to success</span></span></span></li>\n	<li><span style="language:en-US\;"><span style="font-family:constantia\;"><span style="font-size:11.0pt\;">Visioning process to set goals for 2017</span></span></span></li>\n	<li><span style="language:en-US\;"><span style="font-family:constantia\;"><span style="font-size:11.0pt\;">Create a vision board as an anchor for the goals to manifest faster</span></span></span></li>\n</ul>\n
LOCATION:Environ Architecture 100 Oceangate\, Suite P-200 Long Beach\, CA 90802
UID:e.1956.3053
SEQUENCE:3
DTSTAMP:20260419T235403Z
URL:https://business.lbchamber.com/events/details/wbc-vision-board-mixer-3053
END:VEVENT

END:VCALENDAR
