BEGIN:VCALENDAR
VERSION:2.0
PRODID:-//ChamberMaster//Event Calendar 2.0//EN
METHOD:PUBLISH
X-PUBLISHED-TTL:P3D
REFRESH-INTERVAL:P3D
CALSCALE:GREGORIAN
BEGIN:VEVENT
DTSTART:20150128T013000Z
DTEND:20150128T033000Z
X-MICROSOFT-CDO-ALLDAYEVENT:FALSE
SUMMARY:WBC Vision Board Mixer
DESCRIPTION:Network and develop Power Partners to increase sales\, profits and collaboration.\n\nFeaturing Deborah Deras\n\nInternational Speaker\, Author & Engagement Coach\n\n   Get clarity on goals & intentions for 2015\n\n  Identify and transmute blocks to success\n\n  Visioning process to set goals for 2015\n\n  Create a vision board as an anchor for the goals to manifest faster
X-ALT-DESC;FMTTYPE=text/html:<span style="font-size:14px\;"><span style="font-family:constantia\;">Network and develop&nbsp\;Power Partners to&nbsp\;increase sales\, profits&nbsp\;and collaboration.<br />\n<strong>Featuring Deborah Deras</strong><br />\nInternational Speaker\, Author &amp\; Engagement Coach</span></span><br />\n<span style="font-size:12px\;">&nbsp\;<span style="direction:ltr\;unicode-bidi:embed\;language:x-none\;"><span style="color:black\;"><span style="font-family:symbol\;">&uml\;</span></span></span>&nbsp\;<span style="font-family:constantia\;">Get clarity on goals &amp\; intentions for 2015</span><br />\n<span style="direction:ltr\;unicode-bidi:embed\;language:x-none\;"><span style="color:black\;"><span style="font-family:symbol\;">&uml\;</span></span></span>&nbsp\;<span style="font-family:constantia\;">Identify and transmute blocks to success</span><br />\n<span style="direction:ltr\;unicode-bidi:embed\;language:x-none\;"><span style="color:black\;"><span style="font-family:symbol\;">&uml\;</span></span></span>&nbsp\;<span style="font-family:constantia\;">Visioning process to set goals for 2015</span><br />\n<span style="direction:ltr\;unicode-bidi:embed\;language:x-none\;"><span style="color:black\;"><span style="font-family:symbol\;">&uml\;</span></span></span>&nbsp\;<span style="font-family:constantia\;">Create a vision board as an anchor for the goals&nbsp\;to manifest faster</span></span><br />\n&nbsp\;
LOCATION:Environ Architecture 100 Oceangate\, Suite P-200 Long Beach\, CA 90802
UID:e.1956.2367
SEQUENCE:3
DTSTAMP:20260422T024304Z
URL:https://business.lbchamber.com/events/details/wbc-vision-board-mixer-01-27-2015-2367
END:VEVENT

END:VCALENDAR
