BEGIN:VCALENDAR
VERSION:2.0
PRODID:-//ChamberMaster//Event Calendar 2.0//EN
METHOD:PUBLISH
X-PUBLISHED-TTL:P3D
REFRESH-INTERVAL:P3D
CALSCALE:GREGORIAN
BEGIN:VEVENT
DTSTART:20141009T183000Z
DTEND:20141009T203000Z
X-MICROSOFT-CDO-ALLDAYEVENT:FALSE
SUMMARY:WBC Take Charge of Change
DESCRIPTION:Take Charge...More time for "Me"   Busy moms deserve to have time for themselves to use as they choose.  The problem is feeling overwhelmed and putting Me time last on the to do list or feeling guilty about being away from the family.  So\, where do you fit in more Me time and still feel accomplished?  Get the steps on how to have more freedom\, make more money and have more fun.\n\nLearn:\n\n 5 steps needed to take charge of your change process\;\n\n the one thing keeping you feeling stuck and overwhelmed\;\n\n one step that you can start taking immediately!
X-ALT-DESC;FMTTYPE=text/html:<span style="font-family:verdana\;"><span style="font-size:12px\;"><span style="color:black\;">Take Charge...More time for &quot\;Me&quot\;&nbsp\;&nbsp\; Busy moms deserve to have time for themselves to use as they choose.&nbsp\; The problem is feeling overwhelmed and putting Me time last on the to do list or feeling guilty about being away from the family.&nbsp\; So\, where do you fit in more Me time and still feel accomplished?&nbsp\; Get the steps on how to have more freedom\, make more money and have more fun.</span><br />\n<span style="color:black\;">Learn:</span></span></span>\n\n<div style="margin-top:0pt\;margin-bottom:0pt\;margin-left:0.19in\;text-indent:-0.19in\;direction:ltr\;unicode-bidi:embed\;word-break:normal\;"><span style="font-family:verdana\;"><span style="font-size:12px\;">&bull\;<span style="color:black\;">5 steps needed to take charge of your change process\;</span></span></span></div>\n\n<div style="margin-top:0pt\;margin-bottom:0pt\;margin-left:0.19in\;text-indent:-0.19in\;direction:ltr\;unicode-bidi:embed\;word-break:normal\;"><span style="font-family:verdana\;"><span style="font-size:12px\;">&bull\;<span style="color:black\;">the one thing keeping you feeling stuck and overwhelmed\;</span></span></span></div>\n\n<div style="margin-top:0pt\;margin-bottom:0pt\;margin-left:0.19in\;text-indent:-0.19in\;direction:ltr\;unicode-bidi:embed\;word-break:normal\;"><span style="font-family:verdana\;"><span style="font-size:12px\;">&bull\;<span style="color:black\;">one step that you can start taking immediately!</span></span></span></div>\n
LOCATION:Courtyard Long Beach Downtown 500 E. 1st Street Long Beach\, 90802
UID:e.1956.2312
SEQUENCE:3
DTSTAMP:20260422T064154Z
URL:https://business.lbchamber.com/events/details/wbc-take-charge-of-change-10-09-2014-2312
END:VEVENT

END:VCALENDAR
