BEGIN:VCALENDAR
VERSION:2.0
PRODID:-//ChamberMaster//Event Calendar 2.0//EN
METHOD:PUBLISH
X-PUBLISHED-TTL:P3D
REFRESH-INTERVAL:P3D
CALSCALE:GREGORIAN
BEGIN:VEVENT
DTSTART:20160913T143000Z
DTEND:20160913T160000Z
X-MICROSOFT-CDO-ALLDAYEVENT:FALSE
SUMMARY:WBC Small Business Roundtable
DESCRIPTION:WBC Small Business  Roundtable \n\nTopic: "Increase Your Brand Visibility with Cause Related Marketing"\n\nFeaturing Sweeney Montinola - Award-winning Marketing Director for SouthBay Pavilion mall in the City of Carson.  Sweeney will share win-win strategies to successful collaborations with local organizations plus digital and social media trends and tips!
X-ALT-DESC;FMTTYPE=text/html:WBC Small Business&nbsp\; Roundtable&nbsp\;<br />\nTopic: &quot\;Increase Your Brand Visibility with Cause Related Marketing&quot\;<br />\nFeaturing Sweeney Montinola - Award-winning Marketing Director for SouthBay Pavilion mall in the City of Carson. &nbsp\;Sweeney will share win-win strategies to successful collaborations with local organizations plus digital and social media trends and tips!
LOCATION:Long Beach Chamber of Commerce One World Trade Center\, Suite 1650 Long Beach\, CA 90831
UID:e.1956.3025
SEQUENCE:3
DTSTAMP:20260420T060123Z
URL:https://business.lbchamber.com/events/details/wbc-small-business-roundtable-3025
END:VEVENT

END:VCALENDAR
