BEGIN:VCALENDAR
VERSION:2.0
PRODID:-//ChamberMaster//Event Calendar 2.0//EN
METHOD:PUBLISH
X-PUBLISHED-TTL:P3D
REFRESH-INTERVAL:P3D
CALSCALE:GREGORIAN
BEGIN:VEVENT
DTSTART:20150624T003000Z
DTEND:20150624T033000Z
X-MICROSOFT-CDO-ALLDAYEVENT:FALSE
SUMMARY:WBC's Installation Dinner
DESCRIPTION:Please join us as we celebrate the installation of our 2015-2016 President\, Marissa Rabe (Hotel Maya) and Board of Directors and thank the outgoing President\, Ena Alacaraz (State Farm) and the 2014-2015 Board of Directors for their outstanding year of service!
X-ALT-DESC;FMTTYPE=text/html:<span style="language:en-US\;"><span style="color:black\;"><span style="font-family:lucida sans unicode\;"><span style="font-size:12.0pt\;">Please</span></span></span></span><span style="language:en-US\;vertical-align:baseline\;"><span style="color:black\;"><span style="font-family:lucida sans unicode\;"><span style="font-size:12.0pt\;"> join us as we </span></span></span></span><span style="language:en-US\;"><span style="color:black\;"><span style="font-family:lucida sans unicode\;"><span style="font-size:12.0pt\;">celebrate the installation of our 2015-2016 President\, Marissa Rabe (Hotel Maya)&nbsp\;and Board</span></span></span></span> <span style="language:en-US\;"><span style="color:black\;"><span style="font-family:lucida sans unicode\;"><span style="font-size:12.0pt\;">of Directors and thank the outgoing President\, Ena Alacaraz (State Farm)&nbsp\;and the</span></span></span></span> <span style="language:en-US\;"><span style="color:black\;"><span style="font-family:lucida sans unicode\;"><span style="font-size:12.0pt\;">2014-2015 Board of Directors for their outstanding year of service!</span></span></span></span>
LOCATION:Caf Sevilla 140 Pine Avenue Long Beach\, CA 90802 Valet Parking Available $6
UID:e.1956.2476
SEQUENCE:3
DTSTAMP:20260421T193142Z
URL:https://business.lbchamber.com/events/details/wbc-s-installation-dinner-06-23-2015-2476
END:VEVENT

END:VCALENDAR
