BEGIN:VCALENDAR
VERSION:2.0
PRODID:-//ChamberMaster//Event Calendar 2.0//EN
METHOD:PUBLISH
X-PUBLISHED-TTL:P3D
REFRESH-INTERVAL:P3D
CALSCALE:GREGORIAN
BEGIN:VEVENT
DTSTART:20150313T003000Z
DTEND:20150313T033000Z
X-MICROSOFT-CDO-ALLDAYEVENT:FALSE
SUMMARY:WBC's Experience Speaks "The Business of Politics"
DESCRIPTION:Moderator\n\nJavier Angulo\n\nDirector of Community Affairs\n\nWalmart - Public Affairs & Government Relations\n\n\n\nGuest Speakers\n\n Honoring the legacy of public service \n\nBeverly O'Neill\n\nFormer Long Beach Mayor \n\n \n\nState Senator Janet Nguyen\n\nCalifornia's 34th Senate District\n\n \n\nDistinguished Panel\n\n Laura Doud \n\nAuditor\n\nCity of Long Beach \n\n \n\nLena Gonzalez   \n\nCouncilwoman\, First District   \n\nCity of Long Beach\n\n \n\n Stacy Mungo\n\nCouncilwoman\, Fifth District\n\nCity of Long Beach \n\n \n\nVirginia Baxter\n\nBoard of Trustees\n\nLong Beach City College\n\n \n\nMegan Kerr\n\nBoard of Trustees\n\nLong Beach Unified School District\n\n\n\nThe event will also feature local artists!
X-ALT-DESC;FMTTYPE=text/html:<p><strong><em><u><span style="font-family:cambria\,serif\;"><span style="font-size:16.0pt\;">Moderator</span></span></u></em></strong><br />\n<span style="font-weight:bold\;"><span style="font-family:cambria\;"><span style="font-size:11pt\;">Javier Angulo<br />\n<em>Director of Community Affairs<br />\nWalmart - Public Affairs &amp\; Government Relations</em></span></span></span><br />\n<br />\n<strong><em><u><span style="font-family:cambria\,serif\;"><span style="font-size:16.0pt\;">Guest Speakers</span></span></u></em></strong><br />\n&nbsp\;<strong><em><span style="font-family:cambria\,serif\;"><span style="font-size:11.0pt\;">Honoring the legacy of public service&mdash\;</span></span></em></strong><br />\n<strong><span style="font-family:cambria\,serif\;"><span style="font-size:11.0pt\;">Beverly O&rsquo\;Neill</span></span></strong><br />\n<em><span style="font-family:cambria\,serif\;"><span style="font-size:11.0pt\;">Former Long Beach Mayor </span></span></em><br />\n&nbsp\;<br />\n<strong><em><span style="font-family:cambria\,serif\;"><span style="font-size:11.0pt\;">State Senator Janet Nguyen</span></span></em></strong><br />\n<strong><em><span style="font-family:cambria\,serif\;"><span style="font-size:11.0pt\;">California&rsquo\;s 34<sup>th</sup> Senate District</span></span></em></strong><br />\n&nbsp\;<br />\n<strong><em><u><span style="font-family:cambria\,serif\;"><span style="font-size:16.0pt\;">Distinguished Panel</span></span></u></em></strong><br />\n&nbsp\;<strong><span style="font-family:cambria\,serif\;"><span style="font-size:11.0pt\;">Laura Doud </span></span></strong><br />\n<em><span style="font-family:cambria\,serif\;"><span style="font-size:11.0pt\;">Auditor</span></span></em><br />\n<em><span style="font-family:cambria\,serif\;"><span style="font-size:11.0pt\;">City of Long Beach </span></span></em><br />\n&nbsp\;<br />\n<strong><span style="font-family:cambria\,serif\;"><span style="font-size:11.0pt\;">Lena Gonzalez&nbsp\;&nbsp\; </span></span></strong><br />\n<em><span style="font-family:cambria\,serif\;"><span style="font-size:11.0pt\;">Councilwoman\, First District&nbsp\;&nbsp\; </span></span></em><br />\n<em><span style="font-family:cambria\,serif\;"><span style="font-size:11.0pt\;">City of Long Beach</span></span></em><br />\n&nbsp\;<br />\n&nbsp\;<strong><span style="font-family:cambria\,serif\;"><span style="font-size:11.0pt\;">Stacy Mungo</span></span></strong><br />\n<em><span style="font-family:cambria\,serif\;"><span style="font-size:11.0pt\;">Councilwoman\, Fifth District</span></span></em><br />\n<em><span style="font-family:cambria\,serif\;"><span style="font-size:11.0pt\;">City of Long Beach </span></span></em><br />\n&nbsp\;<br />\n<strong><span style="font-family:cambria\,serif\;"><span style="font-size:11.0pt\;">Virginia Baxter</span></span></strong><br />\n<em><span style="font-family:cambria\,serif\;"><span style="font-size:11.0pt\;">Board of Trustees</span></span></em><br />\n<em><span style="font-family:cambria\,serif\;"><span style="font-size:11.0pt\;">Long Beach City College</span></span></em><br />\n&nbsp\;<br />\n<strong><span style="font-family:cambria\,serif\;"><span style="font-size:11.0pt\;">Megan Kerr</span></span></strong><br />\n<em><span style="font-family:cambria\,serif\;"><span style="font-size:11.0pt\;">Board of Trustees</span></span></em><br />\n<em><span style="font-family:cambria\,serif\;"><span style="font-size:11.0pt\;">Long Beach Unified School District</span></span></em><br />\n<br />\n<span style="font-weight:bold\;language:en-US\;"><span style="font-family:cambria\;"><span style="font-size:11.0pt\;">The event will also feature local artists!</span></span></span></p>\n
LOCATION:Hotel Maya 700 Queensway Dr. Long Beach\, CA 90802 (complimentary parking)
UID:e.1956.2405
SEQUENCE:3
DTSTAMP:20260422T000709Z
URL:https://business.lbchamber.com/events/details/wbc-s-experience-speaks-the-business-of-politics-03-12-2015-2405
END:VEVENT

END:VCALENDAR
