BEGIN:VCALENDAR
VERSION:2.0
PRODID:-//ChamberMaster//Event Calendar 2.0//EN
METHOD:PUBLISH
X-PUBLISHED-TTL:P3D
REFRESH-INTERVAL:P3D
CALSCALE:GREGORIAN
BEGIN:VEVENT
DTSTART:20140918T183000Z
DTEND:20140918T203000Z
X-MICROSOFT-CDO-ALLDAYEVENT:FALSE
SUMMARY:WBC - Ninja Leadership Skills
DESCRIPTION:Eran Conforty\n\nCertified Professional Coach\n\nFounder\, Conforty Leadership Coaching\n\nMr. Conforty's presentation includes tried and true leadership principles that can be effectively introduced into the business world.
X-ALT-DESC;FMTTYPE=text/html:<span style="language:en-US\;font-weight:bold\;"><span style="color:black\;"><span style="font-family:lucida sans unicode\;"><span style="font-size:11.0pt\;">Eran Conforty</span></span></span></span><br />\n<span style="font-size: 11pt\; font-family: 'lucida sans unicode'\; color: black\; line-height: 1.6\;">Certified </span><span style="font-size: 11pt\; font-family: 'lucida sans unicode'\; color: black\; line-height: 1.6\;">Professional Coach</span><br />\n<span style="font-size: 11pt\; font-family: 'lucida sans unicode'\; color: black\; font-style: italic\; line-height: 1.6\;">Founder\,&nbsp\;</span><span style="font-size: 11pt\; font-family: 'lucida sans unicode'\; color: black\; line-height: 1.6\;">Conforty Leadership Coaching</span>\n\n<div style="margin-top:0pt\;margin-bottom:0pt\;margin-left:0.19in\;text-indent:-0.19in\;direction:ltr\;unicode-bidi:embed\;word-break:normal\;"><span style="font-size:12.0pt\;">Mr. Conforty&#39\;s presentation includes tried and true leadership principles that can be effectively introduced into the business world.</span></div>\n
LOCATION:Courtyard Long Beach Downtown 500 E. 1st Street Long Beach\, CA 90802 Complimentary Self Parking Valet - $23
UID:e.1956.2296
SEQUENCE:3
DTSTAMP:20260422T075553Z
URL:https://business.lbchamber.com/events/details/wbc-ninja-leadership-skills-09-18-2014-2296
END:VEVENT

END:VCALENDAR
