BEGIN:VCALENDAR
VERSION:2.0
PRODID:-//ChamberMaster//Event Calendar 2.0//EN
METHOD:PUBLISH
X-PUBLISHED-TTL:P3D
REFRESH-INTERVAL:P3D
CALSCALE:GREGORIAN
BEGIN:VEVENT
DTSTART:20160303T013000Z
DTEND:20160303T033000Z
X-MICROSOFT-CDO-ALLDAYEVENT:FALSE
SUMMARY:WBC Mixer at Environ Architecture
DESCRIPTION:Women's Business Council Mixer!  All proceeds will go to our small business grant.  Everyone is welcome\, so bring a friend & plenty of business cards.
X-ALT-DESC;FMTTYPE=text/html:<strong>Women&#39\;s Business Council Mixer! &nbsp\;All proceeds will go to our small business grant. &nbsp\;Everyone is welcome\, so bring a friend &amp\; plenty of business cards.</strong><br />\n&nbsp\;
LOCATION:Environ Architecture\, Inc. 100 Oceangate\, Suite P-200 (next to 24 Hour Fitness) Long Beach\, CA 90802
UID:e.1956.2732
SEQUENCE:3
DTSTAMP:20260420T143403Z
URL:https://business.lbchamber.com/events/details/wbc-mixer-at-environ-architecture-03-02-2016-2732
END:VEVENT

END:VCALENDAR
