BEGIN:VCALENDAR
VERSION:2.0
PRODID:-//ChamberMaster//Event Calendar 2.0//EN
METHOD:PUBLISH
X-PUBLISHED-TTL:P3D
REFRESH-INTERVAL:P3D
CALSCALE:GREGORIAN
BEGIN:VEVENT
DTSTART:20140313T183000Z
DTEND:20140313T203000Z
X-MICROSOFT-CDO-ALLDAYEVENT:FALSE
SUMMARY:WBC Luncheon: "Reach Your Target"
DESCRIPTION:Learn about Olga's 50 Innovative Ways to Make a Chunk of Change & Grow Your Business
X-ALT-DESC;FMTTYPE=text/html:Learn about Olga&#39\;s 50 Innovative Ways to Make a Chunk of Change &amp\; Grow Your Business
LOCATION:87 Aquarium Way Long Beach
UID:e.1956.1230
SEQUENCE:3
DTSTAMP:20260422T163056Z
URL:https://business.lbchamber.com/events/details/wbc-luncheon-reach-your-target-03-13-2014-1230
END:VEVENT

END:VCALENDAR
