BEGIN:VCALENDAR
VERSION:2.0
PRODID:-//ChamberMaster//Event Calendar 2.0//EN
METHOD:PUBLISH
X-PUBLISHED-TTL:P3D
REFRESH-INTERVAL:P3D
CALSCALE:GREGORIAN
BEGIN:VEVENT
DTSTART:20170627T183000Z
DTEND:20170627T203000Z
X-MICROSOFT-CDO-ALLDAYEVENT:FALSE
SUMMARY:WBC Installation Luncheon
DESCRIPTION:Installing\n\n2017-2018 Board of Directors and\n\nincoming  President\, Erin Suarez\, Account Director for Creative Productions!\n\n \n\nAppreciating\n\nOur outgoing President\, Aimee Mandala\, 2016-2017 Board of Directors\, and Tesoro for their generosity to us this year!  Thank you all for making it a wonderful year!\n\n \n\nRecognizing\n\n2017-2018 Board of Directors and incoming  President\, Erin Suarez\, Account Director for Creative Productions
X-ALT-DESC;FMTTYPE=text/html:<span style="font-weight:bold\;language:en-US\;"><span style="color:#BC0F0E\;"><span style="font-family:franklin gothic heavy\;"><span style="font-size:20.0pt\;">Installing</span></span></span></span><br />\n<span style="language:en-US\;"><span style="font-family:lucida sans\;"><span style="font-size:14.0pt\;">2017-2018 Board of Directors and</span></span></span><br />\n<span style="language:en-US\;"><span style="font-family:lucida sans\;"><span style="font-size:14.0pt\;">incoming&nbsp\; President\, </span></span></span><span style="font-weight:bold\;language:en-US\;"><span style="font-family:lucida sans\;"><span style="font-size:14.0pt\;">Erin Suarez</span></span></span><span style="language:en-US\;"><span style="font-family:lucida sans\;"><span style="font-size:14.0pt\;">\,&nbsp\;</span></span></span><span style="language:en-US\;"><span style="font-family:lucida sans\;"><span style="font-size:14.0pt\;">Account Director for Creative Productions!</span></span></span><br />\n&nbsp\;<br />\n<span style="font-weight:bold\;language:en-US\;"><span style="color:#027476\;"><span style="font-family:franklin gothic heavy\;"><span style="font-size:20.0pt\;">Appreciating</span></span></span></span><br />\n<span style="language:en-US\;"><span style="font-family:lucida sans\;"><span style="font-size:14.0pt\;">Our outgoing President\, </span></span></span><span style="font-weight:bold\;language:en-US\;"><span style="font-family:lucida sans\;"><span style="font-size:14.0pt\;">Aimee Mandala</span></span></span><span style="language:en-US\;"><span style="font-family:lucida sans\;"><span style="font-size:14.0pt\;">\, </span></span></span><span style="language:en-US\;"><span style="font-family:lucida sans\;"><span style="font-size:14.0pt\;">2016-2017 Board of Directors\, and </span></span></span><span style="font-weight:bold\;language:en-US\;"><span style="font-family:lucida sans\;"><span style="font-size:14.0pt\;">Tesoro</span></span></span><span style="language:en-US\;"><span style="font-family:lucida sans\;"><span style="font-size:14.0pt\;"> for their generosity to us this year!&nbsp\; Thank you all for making it a&nbsp\;</span></span></span><span style="language:en-US\;"><span style="font-family:lucida sans\;"><span style="font-size:14.0pt\;">wonderful year!</span></span></span><br />\n&nbsp\;<br />\n<span style="font-weight:bold\;language:en-US\;"><span style="color:#BC0F0E\;"><span style="font-family:franklin gothic heavy\;"><span style="font-size:20.0pt\;">Recognizing</span></span></span></span><br />\n<span style="language:en-US\;"><span style="font-family:lucida sans\;"><span style="font-size:14.0pt\;">2017-2018 Board of Directors and&nbsp\;</span></span></span><span style="language:en-US\;"><span style="font-family:lucida sans\;"><span style="font-size:14.0pt\;">incoming&nbsp\; President\, </span></span></span><span style="font-weight:bold\;language:en-US\;"><span style="font-family:lucida sans\;"><span style="font-size:14.0pt\;">Erin Suarez</span></span></span><span style="language:en-US\;"><span style="font-family:lucida sans\;"><span style="font-size:14.0pt\;">\,&nbsp\;</span></span></span><span style="language:en-US\;"><span style="font-family:lucida sans\;"><span style="font-size:14.0pt\;">Account Director for Creative Productions</span></span></span><br />\n&nbsp\;<br />\n&nbsp\;
LOCATION:Hotel Maya 700 Queensway Drive Long Beach\, CA 90802 Complimentary Parking
UID:e.1956.3134
SEQUENCE:3
DTSTAMP:20260419T161638Z
URL:https://business.lbchamber.com/events/details/wbc-installation-luncheon-3134
END:VEVENT

END:VCALENDAR
