BEGIN:VCALENDAR
VERSION:2.0
PRODID:-//ChamberMaster//Event Calendar 2.0//EN
METHOD:PUBLISH
X-PUBLISHED-TTL:P3D
REFRESH-INTERVAL:P3D
CALSCALE:GREGORIAN
BEGIN:VEVENT
DTSTART:20160630T182500Z
DTEND:20160630T202500Z
X-MICROSOFT-CDO-ALLDAYEVENT:FALSE
SUMMARY:WBC Installation Luncheon
DESCRIPTION:Please join in the fun as we install the 2016-2017 Board of Directors and their President\, Aimee Mandala\, Director of Operations for\n\nEnviron Architecture\, Inc. Please also help us celebrate and thank the 2015-2016 Board of Directors and our outgoing President\, Marissa Rabe\, for an outstanding year of service.
X-ALT-DESC;FMTTYPE=text/html:<span style="language:en-US\;"><span style="font-family:lucida sans\;"><span style="font-size:14.0pt\;">Please join in the fun as we install the 2016-2017 Board of Directors and their&nbsp\;</span></span></span><span style="language:en-US\;"><span style="font-family:lucida sans\;"><span style="font-size:14.0pt\;">President\, Aimee Mandala\,&nbsp\;</span></span></span><span style="language:en-US\;"><span style="font-family:lucida sans\;"><span style="font-size:14.0pt\;">Director of Operations for</span></span></span><br />\n<span style="language:en-US\;"><span style="font-family:lucida sans\;"><span style="font-size:14.0pt\;">Environ Architecture\, Inc. Please also help us celebrate and thank the 2015-2016 Board of Directors and our outgoing President\, Marissa Rabe\, for an outstanding year of service.</span></span></span><br />\n&nbsp\;
LOCATION:Parkers' Lighthouse 435 Shoreline Village Dr. Long Beach\, CA 90802 Parking: $2 First 2-Hours
UID:e.1956.2786
SEQUENCE:3
DTSTAMP:20260420T100907Z
URL:https://business.lbchamber.com/events/details/wbc-installation-luncheon-06-30-2016-2786
END:VEVENT

END:VCALENDAR
