BEGIN:VCALENDAR
VERSION:2.0
PRODID:-//ChamberMaster//Event Calendar 2.0//EN
METHOD:PUBLISH
X-PUBLISHED-TTL:P3D
REFRESH-INTERVAL:P3D
CALSCALE:GREGORIAN
BEGIN:VEVENT
DTSTART:20140627T003000Z
DTEND:20140627T033000Z
X-MICROSOFT-CDO-ALLDAYEVENT:FALSE
SUMMARY:WBC Installation Dinner
DESCRIPTION:Women's Business Council Installation Dinner\n\nJoin us as we celebrate the installation of our 2014-15 President\, Ena Alcaraz and our new Board of Directors and thank the outgoing President and 2013-14 Board of Directors for their outstanding year of service!\n\n\n\nSpecial Guest Speaker - newly elected City of Long Beach Councilmember for the 1st District\, Lena Gonzalez!
X-ALT-DESC;FMTTYPE=text/html:<span style="color:#006400\;"><span style="font-family:tahoma\;"><span style="font-size:14px\;"><strong>Women&#39\;s Business Council Installation Dinner</strong><br />\n<span style="font-size:12px\;">Join us as we celebrate the installation of our 2014-15 President\, Ena Alcaraz and our new Board of Directors and thank the outgoing President and 2013-14 Board of Directors for their outstanding year of service!<br />\n<br />\n<strong>Special Guest Speaker</strong> - newly elected City of Long Beach&nbsp\;Councilmember for the&nbsp\;1st District\, Lena Gonzalez!</span></span></span></span>
LOCATION:Hotel Maya 700 Queensway Drive Long Beach\, CA 90802 Complimentary Parking
UID:e.1956.1257
SEQUENCE:3
DTSTAMP:20260422T121843Z
URL:https://business.lbchamber.com/events/details/wbc-installation-dinner-06-26-2014-1257
END:VEVENT

END:VCALENDAR
