BEGIN:VCALENDAR
VERSION:2.0
PRODID:-//ChamberMaster//Event Calendar 2.0//EN
METHOD:PUBLISH
X-PUBLISHED-TTL:P3D
REFRESH-INTERVAL:P3D
CALSCALE:GREGORIAN
BEGIN:VEVENT
DTSTART:20151203T193000Z
DTEND:20151203T210000Z
X-MICROSOFT-CDO-ALLDAYEVENT:FALSE
SUMMARY:WBC Holiday Luncheon
DESCRIPTION:WBC Holiday Luncheon "Fostering a Change"\n\nfeaturing Families Uniting Families & ChildNet Youth & Family Services\n\n\n\nBring an unwrapped board game\, sports ball or gift card to Target or Walmart and get a free picture with Santa!
X-ALT-DESC;FMTTYPE=text/html:<p>WBC Holiday Luncheon &quot\;Fostering a Change&quot\;<br />\nfeaturing Families Uniting Families &amp\; ChildNet&nbsp\;Youth &amp\; Family Services<br />\n<br />\nBring an unwrapped board game\, sports ball or gift card to Target or Walmart and&nbsp\;get a free picture with Santa!</p>\n
LOCATION:The Westin Long Beach 333 E. Ocean Blvd.\, Long Beach\, 90802 Complimentary parking
UID:e.1956.2553
SEQUENCE:3
DTSTAMP:20260420T183340Z
URL:https://business.lbchamber.com/events/details/wbc-holiday-luncheon-12-03-2015-2553
END:VEVENT

END:VCALENDAR
