BEGIN:VCALENDAR
VERSION:2.0
PRODID:-//ChamberMaster//Event Calendar 2.0//EN
METHOD:PUBLISH
X-PUBLISHED-TTL:P3D
REFRESH-INTERVAL:P3D
CALSCALE:GREGORIAN
BEGIN:VEVENT
DTSTART:20140917T000000Z
DTEND:20140917T020000Z
X-MICROSOFT-CDO-ALLDAYEVENT:FALSE
SUMMARY:WBC\, GBC & IBA Joint Mixer - Hotel Maya
DESCRIPTION:Summer is over and it's time to reconnect!  Please join us for this joint mixer where a couple of The Chamber's committees - the Women's Business Council\, Green Business Council and International Business Association - get together for a mixer!
X-ALT-DESC;FMTTYPE=text/html:Summer is over and it&#39\;s time to reconnect! &nbsp\;Please join us for this joint mixer where a couple of The Chamber&#39\;s committees - the Women&#39\;s Business Council\, Green Business Council and International Business Association - get together for a mixer!
LOCATION:The mixer is located at the beautiful Hotel Maya 700 Queensway Drive\, Long Beach\, CA 90802
UID:e.1956.2291
SEQUENCE:3
DTSTAMP:20260422T075757Z
URL:https://business.lbchamber.com/events/details/wbc-gbc-iba-joint-mixer-hotel-maya-09-16-2014-2291
END:VEVENT

END:VCALENDAR
