BEGIN:VCALENDAR
VERSION:2.0
PRODID:-//ChamberMaster//Event Calendar 2.0//EN
METHOD:PUBLISH
X-PUBLISHED-TTL:P3D
REFRESH-INTERVAL:P3D
CALSCALE:GREGORIAN
BEGIN:VEVENT
DTSTART:20141029T010000Z
DTEND:20141029T030000Z
X-MICROSOFT-CDO-ALLDAYEVENT:FALSE
SUMMARY:WBC\, GBC & IBA Halloween Costume Mixer
DESCRIPTION:GBC\, IBA & WBC Joint Halloween Costume Mixer!\n\nWe will also be collecting candy and food for the WomenShelter of Long Beach.\n\nMoney collected will go towards a small business grant and education scholarship for LBUSD/LBCC/CSULB students.
X-ALT-DESC;FMTTYPE=text/html:GBC\, IBA &amp\; WBC Joint Halloween Costume Mixer!<br />\nWe will also be collecting candy and food for the WomenShelter of Long Beach.<br />\nMoney collected will go towards a small business grant and education scholarship for LBUSD/LBCC/CSULB students.
LOCATION:Wells Fargo 111 W. Ocean Blvd.\, Suite 100 Long Beach\, CA 90802 Complimentary parking
UID:e.1956.2314
SEQUENCE:3
DTSTAMP:20260422T064556Z
URL:https://business.lbchamber.com/events/details/wbc-gbc-iba-halloween-costume-mixer-10-28-2014-2314
END:VEVENT

END:VCALENDAR
