BEGIN:VCALENDAR
VERSION:2.0
PRODID:-//ChamberMaster//Event Calendar 2.0//EN
METHOD:PUBLISH
X-PUBLISHED-TTL:P3D
REFRESH-INTERVAL:P3D
CALSCALE:GREGORIAN
BEGIN:VEVENT
DTSTART:20160121T193000Z
DTEND:20160121T210000Z
X-MICROSOFT-CDO-ALLDAYEVENT:FALSE
SUMMARY:WBC & GBC "Data Security Best Practices to Protect Your Business"
DESCRIPTION:Who's Watching Your Data?  The threat of a data breach has never been greater.  Arm yourself with information and tools necessary to keep your company's reputation intact.\n\n\n\nFeaturing Douglas C. Williams\, Chief Executive Officer\, Williams Data Management
X-ALT-DESC;FMTTYPE=text/html:Who&#39\;s Watching Your Data? &nbsp\;The threat of a data breach has never been greater. &nbsp\;Arm yourself with information and tools necessary to keep your company&#39\;s reputation intact.<br />\n<br />\nFeaturing Douglas C. Williams\, Chief Executive Officer\, Williams Data Management
LOCATION:Parkers' Lighthouse 435 Shoreline Village Drive Long Beach\, CA 90802
UID:e.1956.2573
SEQUENCE:3
DTSTAMP:20260420T172739Z
URL:https://business.lbchamber.com/events/details/wbc-gbc-data-security-best-practices-to-protect-your-business-01-21-2016-2573
END:VEVENT

END:VCALENDAR
