BEGIN:VCALENDAR
VERSION:2.0
PRODID:-//ChamberMaster//Event Calendar 2.0//EN
METHOD:PUBLISH
X-PUBLISHED-TTL:P3D
REFRESH-INTERVAL:P3D
CALSCALE:GREGORIAN
BEGIN:VEVENT
DTSTART:20151022T003000Z
DTEND:20151022T033000Z
X-MICROSOFT-CDO-ALLDAYEVENT:FALSE
SUMMARY:WBC Experience Speaks "What's Happening Downtown?"
DESCRIPTION:Experience Speaks\n\nWhat's Happening Downtown?  The Business of Change\n\nA panel discussion about the present and future of Downtown Long Beach.  Panel includes Ryan Altoon\, AndersonPacific\, LLC\; Alan Burks\, Environ Architecture\, Inc.\; Iris Himert\, Long Beach Convention & Visitors Bureau\; Hilda Sanchez\, Minuteman Press and Linda Tatum\, Department of Development Services
X-ALT-DESC;FMTTYPE=text/html:<span style="font-size:18px\;"><span style="font-family:alisandra demo\;">Experience Speaks</span></span><br />\n<span style="font-size:16px\;"><span style="font-weight:bold\;language:en-US\;"><span style="font-family:cambria\;">What&rsquo\;s Happening Downtown? &nbsp\;The Business of Change</span></span><br />\n<span style="color:black\;"><span style="font-family:cambria\;">A panel discussion about the present and future of Downtown Long Beach. &nbsp\;Panel includes Ryan Altoon\, AndersonPacific\, LLC\; Alan Burks\, Environ Architecture\, Inc.\; Iris Himert\, Long Beach Convention &amp\; Visitors Bureau\; Hilda Sanchez\, Minuteman Press and Linda Tatum\, Department of Development Services</span></span><br />\n&nbsp\;</span>
LOCATION:Hotel Maya 700 Queensway Drive Long Beach\, CA 90802 Complimentary Parking
UID:e.1956.2530
SEQUENCE:3
DTSTAMP:20260420T205823Z
URL:https://business.lbchamber.com/events/details/wbc-experience-speaks-what-s-happening-downtown-10-21-2015-2530
END:VEVENT

END:VCALENDAR
