BEGIN:VCALENDAR
VERSION:2.0
PRODID:-//ChamberMaster//Event Calendar 2.0//EN
METHOD:PUBLISH
X-PUBLISHED-TTL:P3D
REFRESH-INTERVAL:P3D
CALSCALE:GREGORIAN
BEGIN:VEVENT
DTSTART:20201021T230000Z
DTEND:20201022T000000Z
X-MICROSOFT-CDO-ALLDAYEVENT:FALSE
SUMMARY:WBC Experience Speaks Series
DESCRIPTION:WBC Experience Speaks Series - Choose one or both!\n\n\n\nWednesday\, October 21\, 4-5pm Confidently Create Your Online Presence to Increase Your Impact & Sales\n\n\n\nThursday\, November 12\, 4-5pm Optimizing "Google My Business" Page
X-ALT-DESC;FMTTYPE=text/html:<p>WBC Experience Speaks Series - Choose one or both!<br />\n<br />\nWednesday\, October 21\, 4-5pm Confidently Create Your Online Presence to Increase Your Impact &amp\; Sales<br />\n<br />\nThursday\, November 12\, 4-5pm Optimizing &quot\;Google My Business&quot\; Page</p>\n
LOCATION:Zoom
UID:e.1956.4959
SEQUENCE:3
DTSTAMP:20260420T230833Z
URL:https://business.lbchamber.com/events/details/wbc-experience-speaks-series-4959
END:VEVENT

END:VCALENDAR
