BEGIN:VCALENDAR
VERSION:2.0
PRODID:-//ChamberMaster//Event Calendar 2.0//EN
METHOD:PUBLISH
X-PUBLISHED-TTL:P3D
REFRESH-INTERVAL:P3D
CALSCALE:GREGORIAN
BEGIN:VEVENT
DTSTART:20201015T230000Z
DTEND:20201016T000000Z
X-MICROSOFT-CDO-ALLDAYEVENT:FALSE
SUMMARY:WBC Experience Speaks Series
DESCRIPTION:WBC Experience Speaks Series - Choose one or all!\n\n\n\n1.  Thursday\, October 15\, 4-5pm Building & Maintaining Emotional Connections in a Virtual Environment\n\n\n\n2.  Wednesday\, October 21\, 4-5pm Confidently Create Your Online Presence to Increase Your Impact & Sales\n\n\n\n3.  Thursday\, November 12\, 4-5pm Optimizing "Google My Business" Page
X-ALT-DESC;FMTTYPE=text/html:<p>WBC Experience Speaks Series - Choose one or all!<br />\n<br />\n1.&nbsp\; Thursday\, October 15\, 4-5pm Building &amp\; Maintaining Emotional Connections in a Virtual Environment<br />\n<br />\n2.&nbsp\; Wednesday\, October 21\, 4-5pm Confidently Create Your Online Presence to Increase Your Impact &amp\; Sales<br />\n<br />\n3.&nbsp\; Thursday\, November 12\, 4-5pm Optimizing &quot\;Google My Business&quot\; Page</p>\n
LOCATION:Zoom
UID:e.1956.4936
SEQUENCE:3
DTSTAMP:20260420T230835Z
URL:https://business.lbchamber.com/events/details/wbc-experience-speaks-series-4936
END:VEVENT

END:VCALENDAR
