BEGIN:VCALENDAR
VERSION:2.0
PRODID:-//ChamberMaster//Event Calendar 2.0//EN
METHOD:PUBLISH
X-PUBLISHED-TTL:P3D
REFRESH-INTERVAL:P3D
CALSCALE:GREGORIAN
BEGIN:VEVENT
DTSTART:20161116T153000Z
DTEND:20161116T173000Z
X-MICROSOFT-CDO-ALLDAYEVENT:FALSE
SUMMARY:WBC Experience Speaks Multi-Generational Leadership
DESCRIPTION:WBC Experience Speaks \n\n"Multi-Generational Leadership"\n\nDepending on our industry\, products and services\, we can be working with and for people who are one\, two or three generations separate from our own.  It's a relatively new phenomenon for which few of us are prepared.  So\, as leaders of big or small companies\, what do we need to know to reach our goals given the many issues surrounding this important business challenge?\n\n\n\nPanel Moderated by:\n\nFred Abdelnour\, Director of Community & Government Affairs\, Enterprise Holdings\n\nOur Panel\n\nJane Netherton\, Former President & CEO\n\n   International City Bank\n\nRhiannon Acree\, RN\, President\n\n   Cambrian Homecare\n\nStacy Lee\, Assistant General Manager\n\n   Parkers' Lighthouse & Queensview Steakhouse\n\nMitra Rogers\, Manager of Government Affairs\n\n   The  Boeing Company\n\nCynthia Yepez\, Site Supervisor\n\n   Power 4 Youth
X-ALT-DESC;FMTTYPE=text/html:<p><span style="font-size:20px\;"><span style="font-weight:bold\;language:en-US\;"><span style="font-family:calibri\;">WBC Experience Speaks&nbsp\;<br />\n&ldquo\;Multi-Generational Leadership&rdquo\;</span></span></span><br />\n<span style="font-weight:bold\;"><span style="color:#5f5f5f\;"><span style="font-family:calibri\;"><span style="font-size:12pt\;">Depending on our industry\, products and services\, we can be working with and for people who are one\, two or three generations separate from our own.&nbsp\; It&rsquo\;s a relatively new phenomenon for which few of us are prepared.&nbsp\; So\, as leaders of big or small companies\, what do we need to know to reach our goals </span></span></span></span><span style="font-weight:bold\;"><span style="color:#5f5f5f\;"><span style="font-family:calibri\;"><span style="font-size:12pt\;">given the many issues surrounding this important business challenge?<br />\n<br />\nPanel Moderated by:<br />\nFred Abdelnour\, Director of Community &amp\; Government Affairs\, Enterprise Holdings<br />\nOur Panel</span></span></span></span><br />\n<span style="font-weight:bold\;"><span style="color:#5f5f5f\;"><span style="font-family:calibri\;"><span style="font-size:12pt\;">Jane Netherton\, Former President &amp\; CEO</span></span></span></span><br />\n<span style="font-weight:bold\;"><span style="color:#5f5f5f\;"><span style="font-family:calibri\;"><span style="font-size:12pt\;">&nbsp\; &nbsp\;International City Bank</span></span></span></span><br />\n<span style="font-weight:bold\;"><span style="color:#5f5f5f\;"><span style="font-family:calibri\;"><span style="font-size:12pt\;">Rhiannon Acree\, RN\, President</span></span></span></span><br />\n<span style="font-weight:bold\;"><span style="color:#5f5f5f\;"><span style="font-family:calibri\;"><span style="font-size:12pt\;">&nbsp\; &nbsp\;Cambrian Homecare</span></span></span></span><br />\n<span style="font-weight:bold\;"><span style="color:#5f5f5f\;"><span style="font-family:calibri\;"><span style="font-size:12pt\;"><span style="font-weight:bold\;"><span style="color:#5f5f5f\;"><span style="font-family:calibri\;"><span style="font-size:12pt\;">Stacy Lee\, Assistant General Manager</span></span></span></span></span></span></span></span><br />\n<span style="font-weight:bold\;"><span style="color:#5f5f5f\;"><span style="font-family:calibri\;"><span style="font-size:12pt\;"><span style="font-weight:bold\;"><span style="color:#5f5f5f\;"><span style="font-family:calibri\;"><span style="font-size:12pt\;">&nbsp\; &nbsp\;Parkers&#39\; Lighthouse &amp\; Queensview Steakhouse</span></span></span></span></span></span></span></span><br />\n<span style="font-weight:bold\;"><span style="color:#5f5f5f\;"><span style="font-family:calibri\;"><span style="font-size:12pt\;">Mitra Rogers\, Manager of Government Affairs</span></span></span></span><br />\n<span style="font-weight:bold\;"><span style="color:#5f5f5f\;"><span style="font-family:calibri\;"><span style="font-size:12pt\;">&nbsp\; &nbsp\;The &nbsp\;Boeing Company</span></span></span></span><br />\n<font color="#5f5f5f" face="calibri"><span style="font-size: 16px\;"><b>Cynthia Yepez\, Site Supervisor<br />\n&nbsp\; &nbsp\;Power 4 Youth</b></span></font></p>\n
LOCATION:Long Beach Airport Marriott 4700 Airport Plaza Drive Long Beach\, 90815
UID:e.1956.3042
SEQUENCE:3
DTSTAMP:20260420T025157Z
URL:https://business.lbchamber.com/events/details/wbc-experience-speaks-multi-generational-leadership-3042
END:VEVENT

END:VCALENDAR
