BEGIN:VCALENDAR
VERSION:2.0
PRODID:-//ChamberMaster//Event Calendar 2.0//EN
METHOD:PUBLISH
X-PUBLISHED-TTL:P3D
REFRESH-INTERVAL:P3D
CALSCALE:GREGORIAN
BEGIN:VEVENT
DTSTART:20140828T003000Z
DTEND:20141001T023000Z
X-MICROSOFT-CDO-ALLDAYEVENT:FALSE
SUMMARY:WBC Common Core to Common Sense Sponsorship
DESCRIPTION:WBC Common Core to Common Sense Sponsorship Opportunities
X-ALT-DESC;FMTTYPE=text/html:WBC Common Core to Common Sense Sponsorship Opportunities
LOCATION:
UID:e.1956.2289
SEQUENCE:3
DTSTAMP:20260422T075424Z
URL:https://business.lbchamber.com/events/details/wbc-common-core-to-common-sense-sponsorship-08-27-2014-2289
END:VEVENT

END:VCALENDAR
