BEGIN:VCALENDAR
VERSION:2.0
PRODID:-//ChamberMaster//Event Calendar 2.0//EN
METHOD:PUBLISH
X-PUBLISHED-TTL:P3D
REFRESH-INTERVAL:P3D
CALSCALE:GREGORIAN
BEGIN:VEVENT
DTSTART:20140320T003000Z
DTEND:20140320T023000Z
X-MICROSOFT-CDO-ALLDAYEVENT:FALSE
SUMMARY:WBC Business Networking Mixer
DESCRIPTION:Join The Chamber's Women's Business Council for evening of networking at the Beachwood BBQ & Brewing.  Be sure to bring plenty of business cards and a guest!  No host bar and complimentary appetizers will be provided.
X-ALT-DESC;FMTTYPE=text/html:Join The Chamber&#39\;s Women&#39\;s Business Council for evening of networking at the Beachwood BBQ &amp\; Brewing. &nbsp\;Be sure to bring plenty of business cards and a guest! &nbsp\;No host bar and complimentary appetizers will be provided.
LOCATION:Beachwood BBQ & Brewing 210 E. 3rd Street Long Beach\, CA 90802
UID:e.1956.1199
SEQUENCE:3
DTSTAMP:20260422T162851Z
URL:https://business.lbchamber.com/events/details/wbc-business-networking-mixer-03-19-2014-1199
END:VEVENT

END:VCALENDAR
