BEGIN:VCALENDAR
VERSION:2.0
PRODID:-//ChamberMaster//Event Calendar 2.0//EN
METHOD:PUBLISH
X-PUBLISHED-TTL:P3D
REFRESH-INTERVAL:P3D
CALSCALE:GREGORIAN
BEGIN:VEVENT
DTSTART:20181013T150000Z
DTEND:20181013T190000Z
X-MICROSOFT-CDO-ALLDAYEVENT:FALSE
SUMMARY:Walk to End Alzhiemer's- Long Beach
DESCRIPTION:Held annually in more than 600 communities nationwide\, the Alzheimer's Association Walk to End Alzheimer's  is the world's largest event to raise awareness and funds for Alzheimer's care\, support and research. This inspiring event calls on participants of all ages and abilities to join the fight against the disease!\n\nWhen you participate in Walk\, your fundraising dollars fuel our mission\, and your participation in the event helps to change the level of Alzheimer's awareness in your community. The Alzheimer's Association provides free\, easy-to-use tools and staff support to help participants reach their fundraising goal. While there is no fee to register\, we encourage participants to fundraise in order to contribute to the cause and raise awareness.
X-ALT-DESC;FMTTYPE=text/html:<p>Held annually in more than 600 communities nationwide\, the Alzheimer&#39\;s Association Walk to End Alzheimer&rsquo\;s&reg\; is the world&rsquo\;s largest event to raise awareness and funds for Alzheimer&rsquo\;s care\, support and research. This inspiring event calls on participants of all ages and abilities to join the fight against the disease!</p>\n\n<p>When you participate in Walk\, your fundraising dollars fuel&nbsp\;<a href="http://act.alz.org/site/PageServer?pagename=walk_money" style="margin: 0px\; padding: 0px\; vertical-align: baseline\; background: transparent\; color: rgb(0\, 83\, 155)\; text-decoration-line: none\;">our mission</a>\, and your participation in the event helps to change the level of Alzheimer&rsquo\;s awareness in your community.&nbsp\;The Alzheimer&rsquo\;s Association provides free\, easy-to-use tools and staff support to help participants reach their fundraising goal. While there is no fee to register\, we encourage participants to fundraise in order to contribute to the cause and raise awareness.</p>\n
LOCATION:Rainbow Lagoon Park 443 E. Shoreline Dr. Long Beach\, CA 90802
UID:e.1956.4335
SEQUENCE:3
DTSTAMP:20260420T072757Z
URL:https://business.lbchamber.com/events/details/walk-to-end-alzhiemer-s-long-beach-4335
END:VEVENT

END:VCALENDAR
