BEGIN:VCALENDAR
VERSION:2.0
PRODID:-//ChamberMaster//Event Calendar 2.0//EN
METHOD:PUBLISH
X-PUBLISHED-TTL:P3D
REFRESH-INTERVAL:P3D
CALSCALE:GREGORIAN
BEGIN:VEVENT
DTSTART:20141018T140000Z
DTEND:20141018T200000Z
X-MICROSOFT-CDO-ALLDAYEVENT:FALSE
SUMMARY:Walk Like MADD
DESCRIPTION:On October 18\, 2014\, Mothers Against Drunk Driving (MADD) will be hosting its annual 5K Walk at Granada Beach in Long Beach. This well-attended community event draws over a thousand every year in honor of drunk driving victims\, their families\, and in support of our mission to stop drunk driving\, support the victims of this violent crime\, and to prevent underage drinking.
X-ALT-DESC;FMTTYPE=text/html:On October 18\, 2014\, Mothers Against Drunk Driving (MADD) will be hosting its annual 5K Walk at Granada Beach in Long Beach. This well-attended community event draws over a thousand every year in honor of drunk driving victims\, their families\, and in support of our mission to stop drunk driving\, support the victims of this violent crime\, and to prevent underage drinking.&nbsp\;
LOCATION:1 Granada Avenue Long Beach\, CA 90802
UID:e.1956.1256
SEQUENCE:3
DTSTAMP:20260424T125208Z
URL:https://business.lbchamber.com/events/details/walk-like-madd-10-18-2014-1256
END:VEVENT

END:VCALENDAR
