BEGIN:VCALENDAR
VERSION:2.0
PRODID:-//ChamberMaster//Event Calendar 2.0//EN
METHOD:PUBLISH
X-PUBLISHED-TTL:P3D
REFRESH-INTERVAL:P3D
CALSCALE:GREGORIAN
BEGIN:VEVENT
DTSTART:20150912T170000Z
DTEND:20150912T200000Z
X-MICROSOFT-CDO-ALLDAYEVENT:FALSE
SUMMARY:Walk for Hope-"The Happiest Walk on Earth"!
DESCRIPTION:A compassion-themed 3-kilometer walk. Come visit the Tree of Forgiveness\, the Garden of Kindness\, paintings of inspiring quotes\, and much more! It?s transformative. It?s introspective. It?s Free! It?s our gift to you. HELP PROMOTE the event by adding friends and sharing this FaceBook event: https://www.facebook.com/events/421602348000038/
X-ALT-DESC;FMTTYPE=text/html:A compassion-themed 3-kilometer walk. Come visit the Tree of Forgiveness\, the Garden of Kindness\, paintings of inspiring quotes\, and much more! It?s transformative. It?s introspective. It?s Free! It?s our gift to you. HELP PROMOTE the event by adding friends and sharing this FaceBook event: https://www.facebook.com/events/421602348000038/
LOCATION:El Dorado Park East
UID:e.1956.2499
SEQUENCE:3
DTSTAMP:20260423T233726Z
URL:https://business.lbchamber.com/events/details/walk-for-hope-the-happiest-walk-on-earth-09-12-2015-2499
END:VEVENT

END:VCALENDAR
