BEGIN:VCALENDAR
VERSION:2.0
PRODID:-//ChamberMaster//Event Calendar 2.0//EN
METHOD:PUBLISH
X-PUBLISHED-TTL:P3D
REFRESH-INTERVAL:P3D
CALSCALE:GREGORIAN
BEGIN:VEVENT
DTSTART:20190427T200000Z
DTEND:20190428T074500Z
X-MICROSOFT-CDO-ALLDAYEVENT:FALSE
SUMMARY:Voyage to the Other Side aboard the Queen Mary
DESCRIPTION:The RMS Queen Mary is said to be one of the most haunted locations in the world\; you cannot set foot aboard without hearing one of her many tales of paranormal occurrences. The Revenant Room and the infamous Rope Locker are no exception and are key areas that guest will investigate during Voyage to the Other Side. Since Aiden Sinclair's theatrical s ance\, Illusions of the Passed\, began in September of 2018\, activity has increased dramatically within these spaces. Sightings of apparitions\, voices being heard\, and even guests feeling as though they have been touched have been reported. Perhaps activity has picked up in these areas due to guests venturing into this space more frequently. Maybe something about the theatrical s ance has opened up the minds of many guests and have allowed for the activity to be noticed a little more. Or is it something else? Whatever the cause\, Senter Stage Events is now hosting a recurring paranormal investigation onboard the Queen Mary in these specific areas to find out who (or what) is gracing patrons with their presence. Every month\, join the finest paranormal investigators as they conduct research aboard the Queen Mary and take an interactive approach with guests. In addition to gathering evidence\, you will also learn true methods of paranormal investigating with Resident Host Chad Lindberg and a celebrity guest each month.
X-ALT-DESC;FMTTYPE=text/html:The RMS Queen Mary is said to be one of the most haunted locations in the world\; you cannot set foot aboard without hearing one of her many tales of paranormal occurrences. The Revenant Room and the infamous Rope Locker are no exception and are key areas that guest will investigate during Voyage to the Other Side. Since Aiden Sinclair&#39\;s theatrical s&eacute\;ance\, Illusions of the Passed\, began in September of 2018\, activity has increased dramatically within these spaces. Sightings of apparitions\, voices being heard\, and even guests feeling as though they have been touched have been reported. Perhaps activity has picked up in these areas due to guests venturing into this space more frequently. Maybe something about the theatrical s&eacute\;ance has opened up the minds of many guests and have allowed for the activity to be noticed a little more. Or is it something else? Whatever the cause\, Senter Stage Events is now hosting a recurring paranormal investigation onboard the Queen Mary in these specific areas to find out who (or what) is gracing patrons with their presence. Every month\, join the finest paranormal investigators as they conduct research aboard the Queen Mary and take an interactive approach with guests. In addition to gathering evidence\, you will also learn true methods of paranormal investigating with Resident Host Chad Lindberg and a celebrity guest each month.
LOCATION:The Queen Mary
UID:e.1956.4475
SEQUENCE:3
DTSTAMP:20260419T231505Z
URL:https://business.lbchamber.com/events/details/voyage-to-the-other-side-aboard-the-queen-mary-4475
END:VEVENT

END:VCALENDAR
