BEGIN:VCALENDAR
VERSION:2.0
PRODID:-//ChamberMaster//Event Calendar 2.0//EN
METHOD:PUBLISH
X-PUBLISHED-TTL:P3D
REFRESH-INTERVAL:P3D
CALSCALE:GREGORIAN
BEGIN:VEVENT
DTSTART:20161028T143000Z
DTEND:20161028T163000Z
X-MICROSOFT-CDO-ALLDAYEVENT:FALSE
SUMMARY:Unexpected Benefits of Creating Sustainable Businesses
DESCRIPTION:Please join us for an informative and entertaining morning! Mayor Robert Garcia will kick off the event!  Tom Bowman\, Bowman Design Group will serve as our moderator to our panel.  This event is sponsored by The Chamber's   Sustainable Business Long Beach and the Women's Business Council.\n\n\n\nOur panelists:\n\nSpencer Brown\, Founder and Chief Tree Hugger\, Rent A Green Box\, Eco Mattress Bags\, Eco Laundry Bags and Zero Waste Moving Products\n\nApril Economides\, President Green Octopus Consulting\n\nTerry Geiling\, President and CEO\, American Gold Star Manor\n\nJay Penev\, Co-Founder and Chief Fermentationist\, Fine Feathers Kombucha
X-ALT-DESC;FMTTYPE=text/html:<p>Please join us for an informative and entertaining morning! <strong>Mayor Robert Garcia </strong>will kick off the event! &nbsp\;<strong>Tom Bowman</strong>\, Bowman Design Group will serve as our moderator to our panel. &nbsp\;This event is sponsored by The Chamber&#39\;s &nbsp\; Sustainable Business Long Beach and the Women&#39\;s Business Council.<br />\n<br />\n<u>Our panelists</u>:<br />\n<strong>Spencer Brown</strong>\, Founder and Chief Tree Hugger\, Rent A Green Box\, Eco Mattress Bags\, Eco Laundry Bags and Zero Waste Moving Products<br />\n<strong>April Economides</strong>\, President Green Octopus Consulting<br />\n<strong>Terry Geiling</strong>\, President and CEO\, American Gold Star Manor<br />\n<strong>Jay Penev</strong>\, Co-Founder and&nbsp\;Chief Fermentationist\, Fine Feathers Kombucha<br />\n&nbsp\;</p>\n
LOCATION:Courtyard Long Beach Downtown 500 E. 1st Street\, Long Beach\, 90802
UID:e.1956.3007
SEQUENCE:3
DTSTAMP:20260420T043059Z
URL:https://business.lbchamber.com/events/details/unexpected-benefits-of-creating-sustainable-businesses-10-26-2016-3007
END:VEVENT

END:VCALENDAR
