BEGIN:VCALENDAR
VERSION:2.0
PRODID:-//ChamberMaster//Event Calendar 2.0//EN
METHOD:PUBLISH
X-PUBLISHED-TTL:P3D
REFRESH-INTERVAL:P3D
CALSCALE:GREGORIAN
BEGIN:VEVENT
DTSTART:20210210T010000Z
DTEND:20210210T020000Z
X-MICROSOFT-CDO-ALLDAYEVENT:FALSE
SUMMARY:Understanding Your Financials
DESCRIPTION:Do you receive financial statements from your accountant and not understand what those documents are telling you about the condition of your business? This seminar will help you understand the real purpose of financial reports such as Profit Loss statements and Balance Sheets and how to use these reports to more effectively manage your business. In addition\, we will show you how to use a simple cash flow model that will help you do a better job of managing your cash.\n\n\n\nYou will learn:\n\n-What to look for when you are reviewing a Profit & Loss Statement or Balance Sheet.\n\n-How to understand how much cash is in the business and how to effectively manage your cash for any large expenses you may have coming in the future.\n\n-How to determine the value of your business\, if you're considering selling it.\n\nIf you have them available\, we encourage you to bring out the Profit Loss Statements and a Balance Sheet from your business so you can use these documents to make this workshop more valuable as you use your own data to understand these concepts.
X-ALT-DESC;FMTTYPE=text/html:<span style="background-image:initial\;background-position:initial\;background-size:initial\;background-repeat:initial\;background-attachment:initial\;background-origin:initial\;background-clip:initial\;"><span style="color:#232333\;"><span style="font-size:10.5pt\;">Do you receive financial statements from your accountant and not understand what those documents are telling you about the condition of your business? This seminar will help you understand the real purpose of financial reports such as Profit Loss statements and Balance Sheets and how to use these reports to more effectively manage your business. In addition\, we will show you how to use a simple cash flow model that will help you do a better job of managing your cash.</span></span></span><br />\n<br />\n<span style="color:#232333\;"><span style="font-size:10.5pt\;"><span style="background-image:initial\;background-position:initial\;background-size:initial\;background-repeat:initial\;background-attachment:initial\;background-origin:initial\;background-clip:initial\;">You will learn:</span><br />\n<span style="background-image:initial\;background-position:initial\;background-size:initial\;background-repeat:initial\;background-attachment:initial\;background-origin:initial\;background-clip:initial\;">-What to look for when you are reviewing a Profit &amp\; Loss Statement or Balance Sheet.</span><br />\n<span style="background-image:initial\;background-position:initial\;background-size:initial\;background-repeat:initial\;background-attachment:initial\;background-origin:initial\;background-clip:initial\;">-How to understand how much cash is in the business and how to effectively manage your cash for any large expenses you may have coming in the future.</span><br />\n<span style="background-image:initial\;background-position:initial\;background-size:initial\;background-repeat:initial\;background-attachment:initial\;background-origin:initial\;background-clip:initial\;">-How to determine the value of your business\, if you&rsquo\;re considering selling it.</span><br />\n<span style="background-image:initial\;background-position:initial\;background-size:initial\;background-repeat:initial\;background-attachment:initial\;background-origin:initial\;background-clip:initial\;">If you have them available\, we encourage you to bring out the Profit Loss Statements and a Balance Sheet from your business so you can use these documents to make this workshop more valuable as you use your own data to understand these concepts.</span></span></span>
LOCATION:Virtual (Zoom)
UID:e.1956.5071
SEQUENCE:3
DTSTAMP:20260420T133953Z
URL:https://business.lbchamber.com/events/details/understanding-your-financials-5071
END:VEVENT

END:VCALENDAR
