BEGIN:VCALENDAR
VERSION:2.0
PRODID:-//ChamberMaster//Event Calendar 2.0//EN
METHOD:PUBLISH
X-PUBLISHED-TTL:P3D
REFRESH-INTERVAL:P3D
CALSCALE:GREGORIAN
BEGIN:VEVENT
DTSTART:20190607T003000Z
DTEND:20190607T033000Z
X-MICROSOFT-CDO-ALLDAYEVENT:FALSE
SUMMARY:TravelHost Beach Cities - 7th Annual Reception
DESCRIPTION:Please join us at TravelHost Beach Cities' 7th Annual Reception to thank our hotel and advertising partners\, network with friends\, business associates & city officials and recognize local icons of the community\; all while we raise money for a very worthy cause. All of the night's proceeds will go to the Long Beach Ronald McDonald House. With a beautiful waterfront setting at Hotel Maya\, please join us for this annual cocktail reception\, appetizers\, live music\, silent auction and raffle prizes. Tickets available here: www.thbcevents.com If you are interested in sponsorship opportunities\, please email travelhostdan@gmail.com.
X-ALT-DESC;FMTTYPE=text/html:Please join us at TravelHost Beach Cities&#39\; 7th Annual Reception to thank our hotel and advertising partners\, network with friends\, business associates &amp\; city officials and recognize local icons of the community\; all while we raise money for a very worthy cause. All of the night&#39\;s proceeds will go to the Long Beach Ronald McDonald House. With a beautiful waterfront setting at Hotel Maya\, please join us for this annual cocktail reception\, appetizers\, live music\, silent auction and raffle prizes. Tickets available here: www.thbcevents.com If you are interested in sponsorship opportunities\, please email travelhostdan@gmail.com.
LOCATION:Hotel Maya
UID:e.1956.4507
SEQUENCE:3
DTSTAMP:20260419T193043Z
URL:https://business.lbchamber.com/events/details/travelhost-beach-cities-7th-annual-reception-4507
END:VEVENT

END:VCALENDAR
