BEGIN:VCALENDAR
VERSION:2.0
PRODID:-//ChamberMaster//Event Calendar 2.0//EN
METHOD:PUBLISH
X-PUBLISHED-TTL:P3D
REFRESH-INTERVAL:P3D
CALSCALE:GREGORIAN
BEGIN:VEVENT
DTSTART:20170322T003000Z
DTEND:20170322T023000Z
X-MICROSOFT-CDO-ALLDAYEVENT:FALSE
SUMMARY:Travel Orientation at Forbidden City - Explore Spain and the Rhine River
DESCRIPTION:Please join The Chamber for our upcoming Travel Orientation where you will hear from Ian Scott of Central Holidays as he presents these exclusive trip opportunities!
X-ALT-DESC;FMTTYPE=text/html:<strong><span style="font-family:tahoma\;"><span style="font-size:14.0pt\;">Please join The Chamber for our upcoming Travel Orientation where you will hear from Ian Scott of Central Holidays as he presents these exclusive trip opportunities!&nbsp\;</span></span></strong>
LOCATION:Forbidden City 638A E. Pacific Coast Hwy. Long Beach\, CA 90803
UID:e.1956.3074
SEQUENCE:3
DTSTAMP:20260419T210958Z
URL:https://business.lbchamber.com/events/details/travel-orientation-at-forbidden-city-explore-spain-and-the-rhine-river-3074
END:VEVENT

END:VCALENDAR
